Workbook

Sheet داشبورد
A1: داشبورد ارزیابی عملکرد کارشناسان فروش
A3: دوره ارزیابی | B3: 1405-01
A5: فروش کل | B5: سود ناخالص | C5: حاشیه سود | D5: نرخ تبدیل | E5: میانگین امتیاز | F5: تعداد کارشناس
A6: =SUMIF('ورودی عملکرد'!$A$2:$A$101,$B$3,'ورودی عملکرد'!$D$2:$D$101) -> 1120000000 | B6: =SUMIF('ورودی عملکرد'!$A$2:$A$101,$B$3,'ورودی عملکرد'!$M$2:$M$101) -> 270000000 | C6: =IFERROR(B6/A6,0) -> 0.24107143 | D6: =IFERROR(SUMIF('ورودی عملکرد'!$A$2:$A$101,$B$3,'ورودی عملکرد'!$G$2:$G$101)/SUMIF('ورودی عملکرد'!$A$2:$A$101,$B$3,'ورودی عملکرد'!$F$2:$F$101),0) -> 0.15 | E6: =IFERROR(SUMIF('ورودی عملکرد'!$A$2:$A$101,$B$3,'ورودی عملکرد'!$P$2:$P$101)/COUNTIFS('ورودی عملکرد'!$A$2:$A$101,$B$3,'ورودی عملکرد'!$B$2:$B$101,"<>"),0) -> 87.4 | F6: =COUNTIFS('ورودی عملکرد'!$A$2:$A$101,$B$3,'ورودی عملکرد'!$B$2:$B$101,"<>") -> 1
A9: ردیف | B9: کارشناس | C9: فروش | D9: سود | E9: حاشیه سود | F9: تبدیل | G9: امتیاز | H9: اقدام مدیریتی
A10: 1 | B10: =IF(تنظیمات!$D$3="","",تنظیمات!$D$3) -> علی رضایی (نمونه) | C10: =IF(B10="","",SUMIFS('ورودی عملکرد'!$D$2:$D$101,'ورودی عملکرد'!$A$2:$A$101,$B$3,'ورودی عملکرد'!$B$2:$B$101,B10)) -> 1120000000 | D10: =IF(B10="","",SUMIFS('ورودی عملکرد'!$M$2:$M$101,'ورودی عملکرد'!$A$2:$A$101,$B$3,'ورودی عملکرد'!$B$2:$B$101,B10)) -> 270000000 | E10: =IF(B10="","",IFERROR(D10/C10,0)) -> 0.24107143 | F10: =IF(B10="","",IFERROR(SUMIFS('ورودی عملکرد'!$G$2:$G$101,'ورودی عملکرد'!$A$2:$A$101,$B$3,'ورودی عملکرد'!$B$2:$B$101,B10)/SUMIFS('ورودی عملکرد'!$F$2:$F$101,'ورودی عملکرد'!$A$2:$A$101,$B$3,'ورودی عملکرد'!$B$2:$B$101,B10),0)) -> 0.15 | G10: =IF(B10="","",IFERROR(SUMIFS('ورودی عملکرد'!$P$2:$P$101,'ورودی عملکرد'!$A$2:$A$101,$B$3,'ورودی عملکرد'!$B$2:$B$101,B10)/COUNTIFS('ورودی عملکرد'!$A$2:$A$101,$B$3,'ورودی عملکرد'!$B$2:$B$101,B10),0)) -> 87.4 | H10: =IF(B10="","",IF(G10>=85,"حفظ و الگوبرداری",IF(G10>=70,"توسعه هدفمند",IF(G10>=55,"کوچینگ",IF(G10>=40,"برنامه بهبود","اقدام فوری"))))) -> حفظ و الگوبرداری
A11: 2 | B11: =IF(تنظیمات!$D$4="","",تنظیمات!$D$4) | C11: =IF(B11="","",SUMIFS('ورودی عملکرد'!$D$2:$D$101,'ورودی عملکرد'!$A$2:$A$101,$B$3,'ورودی عملکرد'!$B$2:$B$101,B11)) | D11: =IF(B11="","",SUMIFS('ورودی عملکرد'!$M$2:$M$101,'ورودی عملکرد'!$A$2:$A$101,$B$3,'ورودی عملکرد'!$B$2:$B$101,B11)) | E11: =IF(B11="","",IFERROR(D11/C11,0)) | F11: =IF(B11="","",IFERROR(SUMIFS('ورودی عملکرد'!$G$2:$G$101,'ورودی عملکرد'!$A$2:$A$101,$B$3,'ورودی عملکرد'!$B$2:$B$101,B11)/SUMIFS('ورودی عملکرد'!$F$2:$F$101,'ورودی عملکرد'!$A$2:$A$101,$B$3,'ورودی عملکرد'!$B$2:$B$101,B11),0)) | G11: =IF(B11="","",IFERROR(SUMIFS('ورودی عملکرد'!$P$2:$P$101,'ورودی عملکرد'!$A$2:$A$101,$B$3,'ورودی عملکرد'!$B$2:$B$101,B11)/COUNTIFS('ورودی عملکرد'!$A$2:$A$101,$B$3,'ورودی عملکرد'!$B$2:$B$101,B11),0)) | H11: =IF(B11="","",IF(G11>=85,"حفظ و الگوبرداری",IF(G11>=70,"توسعه هدفمند",IF(G11>=55,"کوچینگ",IF(G11>=40,"برنامه بهبود","اقدام فوری")))))
A12: 3 | B12: =IF(تنظیمات!$D$5="","",تنظیمات!$D$5) | C12: =IF(B12="","",SUMIFS('ورودی عملکرد'!$D$2:$D$101,'ورودی عملکرد'!$A$2:$A$101,$B$3,'ورودی عملکرد'!$B$2:$B$101,B12)) | D12: =IF(B12="","",SUMIFS('ورودی عملکرد'!$M$2:$M$101,'ورودی عملکرد'!$A$2:$A$101,$B$3,'ورودی عملکرد'!$B$2:$B$101,B12)) | E12: =IF(B12="","",IFERROR(D12/C12,0)) | F12: =IF(B12="","",IFERROR(SUMIFS('ورودی عملکرد'!$G$2:$G$101,'ورودی عملکرد'!$A$2:$A$101,$B$3,'ورودی عملکرد'!$B$2:$B$101,B12)/SUMIFS('ورودی عملکرد'!$F$2:$F$101,'ورودی عملکرد'!$A$2:$A$101,$B$3,'ورودی عملکرد'!$B$2:$B$101,B12),0)) | G12: =IF(B12="","",IFERROR(SUMIFS('ورودی عملکرد'!$P$2:$P$101,'ورودی عملکرد'!$A$2:$A$101,$B$3,'ورودی عملکرد'!$B$2:$B$101,B12)/COUNTIFS('ورودی عملکرد'!$A$2:$A$101,$B$3,'ورودی عملکرد'!$B$2:$B$101,B12),0)) | H12: =IF(B12="","",IF(G12>=85,"حفظ و الگوبرداری",IF(G12>=70,"توسعه هدفمند",IF(G12>=55,"کوچینگ",IF(G12>=40,"برنامه بهبود","اقدام فوری")))))
A13: 4 | B13: =IF(تنظیمات!$D$6="","",تنظیمات!$D$6) | C13: =IF(B13="","",SUMIFS('ورودی عملکرد'!$D$2:$D$101,'ورودی عملکرد'!$A$2:$A$101,$B$3,'ورودی عملکرد'!$B$2:$B$101,B13)) | D13: =IF(B13="","",SUMIFS('ورودی عملکرد'!$M$2:$M$101,'ورودی عملکرد'!$A$2:$A$101,$B$3,'ورودی عملکرد'!$B$2:$B$101,B13)) | E13: =IF(B13="","",IFERROR(D13/C13,0)) | F13: =IF(B13="","",IFERROR(SUMIFS('ورودی عملکرد'!$G$2:$G$101,'ورودی عملکرد'!$A$2:$A$101,$B$3,'ورودی عملکرد'!$B$2:$B$101,B13)/SUMIFS('ورودی عملکرد'!$F$2:$F$101,'ورودی عملکرد'!$A$2:$A$101,$B$3,'ورودی عملکرد'!$B$2:$B$101,B13),0)) | G13: =IF(B13="","",IFERROR(SUMIFS('ورودی عملکرد'!$P$2:$P$101,'ورودی عملکرد'!$A$2:$A$101,$B$3,'ورودی عملکرد'!$B$2:$B$101,B13)/COUNTIFS('ورودی عملکرد'!$A$2:$A$101,$B$3,'ورودی عملکرد'!$B$2:$B$101,B13),0)) | H13: =IF(B13="","",IF(G13>=85,"حفظ و الگوبرداری",IF(G13>=70,"توسعه هدفمند",IF(G13>=55,"کوچینگ",IF(G13>=40,"برنامه بهبود","اقدام فوری")))))
A14: 5 | B14: =IF(تنظیمات!$D$7="","",تنظیمات!$D$7) | C14: =IF(B14="","",SUMIFS('ورودی عملکرد'!$D$2:$D$101,'ورودی عملکرد'!$A$2:$A$101,$B$3,'ورودی عملکرد'!$B$2:$B$101,B14)) | D14: =IF(B14="","",SUMIFS('ورودی عملکرد'!$M$2:$M$101,'ورودی عملکرد'!$A$2:$A$101,$B$3,'ورودی عملکرد'!$B$2:$B$101,B14)) | E14: =IF(B14="","",IFERROR(D14/C14,0)) | F14: =IF(B14="","",IFERROR(SUMIFS('ورودی عملکرد'!$G$2:$G$101,'ورودی عملکرد'!$A$2:$A$101,$B$3,'ورودی عملکرد'!$B$2:$B$101,B14)/SUMIFS('ورودی عملکرد'!$F$2:$F$101,'ورودی عملکرد'!$A$2:$A$101,$B$3,'ورودی عملکرد'!$B$2:$B$101,B14),0)) | G14: =IF(B14="","",IFERROR(SUMIFS('ورودی عملکرد'!$P$2:$P$101,'ورودی عملکرد'!$A$2:$A$101,$B$3,'ورودی عملکرد'!$B$2:$B$101,B14)/COUNTIFS('ورودی عملکرد'!$A$2:$A$101,$B$3,'ورودی عملکرد'!$B$2:$B$101,B14),0)) | H14: =IF(B14="","",IF(G14>=85,"حفظ و الگوبرداری",IF(G14>=70,"توسعه هدفمند",IF(G14>=55,"کوچینگ",IF(G14>=40,"برنامه بهبود","اقدام فوری")))))
A15: 6 | B15: =IF(تنظیمات!$D$8="","",تنظیمات!$D$8) | C15: =IF(B15="","",SUMIFS('ورودی عملکرد'!$D$2:$D$101,'ورودی عملکرد'!$A$2:$A$101,$B$3,'ورودی عملکرد'!$B$2:$B$101,B15)) | D15: =IF(B15="","",SUMIFS('ورودی عملکرد'!$M$2:$M$101,'ورودی عملکرد'!$A$2:$A$101,$B$3,'ورودی عملکرد'!$B$2:$B$101,B15)) | E15: =IF(B15="","",IFERROR(D15/C15,0)) | F15: =IF(B15="","",IFERROR(SUMIFS('ورودی عملکرد'!$G$2:$G$101,'ورودی عملکرد'!$A$2:$A$101,$B$3,'ورودی عملکرد'!$B$2:$B$101,B15)/SUMIFS('ورودی عملکرد'!$F$2:$F$101,'ورودی عملکرد'!$A$2:$A$101,$B$3,'ورودی عملکرد'!$B$2:$B$101,B15),0)) | G15: =IF(B15="","",IFERROR(SUMIFS('ورودی عملکرد'!$P$2:$P$101,'ورودی عملکرد'!$A$2:$A$101,$B$3,'ورودی عملکرد'!$B$2:$B$101,B15)/COUNTIFS('ورودی عملکرد'!$A$2:$A$101,$B$3,'ورودی عملکرد'!$B$2:$B$101,B15),0)) | H15: =IF(B15="","",IF(G15>=85,"حفظ و الگوبرداری",IF(G15>=70,"توسعه هدفمند",IF(G15>=55,"کوچینگ",IF(G15>=40,"برنامه بهبود","اقدام فوری")))))
A16: 7 | B16: =IF(تنظیمات!$D$9="","",تنظیمات!$D$9) | C16: =IF(B16="","",SUMIFS('ورودی عملکرد'!$D$2:$D$101,'ورودی عملکرد'!$A$2:$A$101,$B$3,'ورودی عملکرد'!$B$2:$B$101,B16)) | D16: =IF(B16="","",SUMIFS('ورودی عملکرد'!$M$2:$M$101,'ورودی عملکرد'!$A$2:$A$101,$B$3,'ورودی عملکرد'!$B$2:$B$101,B16)) | E16: =IF(B16="","",IFERROR(D16/C16,0)) | F16: =IF(B16="","",IFERROR(SUMIFS('ورودی عملکرد'!$G$2:$G$101,'ورودی عملکرد'!$A$2:$A$101,$B$3,'ورودی عملکرد'!$B$2:$B$101,B16)/SUMIFS('ورودی عملکرد'!$F$2:$F$101,'ورودی عملکرد'!$A$2:$A$101,$B$3,'ورودی عملکرد'!$B$2:$B$101,B16),0)) | G16: =IF(B16="","",IFERROR(SUMIFS('ورودی عملکرد'!$P$2:$P$101,'ورودی عملکرد'!$A$2:$A$101,$B$3,'ورودی عملکرد'!$B$2:$B$101,B16)/COUNTIFS('ورودی عملکرد'!$A$2:$A$101,$B$3,'ورودی عملکرد'!$B$2:$B$101,B16),0)) | H16: =IF(B16="","",IF(G16>=85,"حفظ و الگوبرداری",IF(G16>=70,"توسعه هدفمند",IF(G16>=55,"کوچینگ",IF(G16>=40,"برنامه بهبود","اقدام فوری")))))
A17: 8 | B17: =IF(تنظیمات!$D$10="","",تنظیمات!$D$10) | C17: =IF(B17="","",SUMIFS('ورودی عملکرد'!$D$2:$D$101,'ورودی عملکرد'!$A$2:$A$101,$B$3,'ورودی عملکرد'!$B$2:$B$101,B17)) | D17: =IF(B17="","",SUMIFS('ورودی عملکرد'!$M$2:$M$101,'ورودی عملکرد'!$A$2:$A$101,$B$3,'ورودی عملکرد'!$B$2:$B$101,B17)) | E17: =IF(B17="","",IFERROR(D17/C17,0)) | F17: =IF(B17="","",IFERROR(SUMIFS('ورودی عملکرد'!$G$2:$G$101,'ورودی عملکرد'!$A$2:$A$101,$B$3,'ورودی عملکرد'!$B$2:$B$101,B17)/SUMIFS('ورودی عملکرد'!$F$2:$F$101,'ورودی عملکرد'!$A$2:$A$101,$B$3,'ورودی عملکرد'!$B$2:$B$101,B17),0)) | G17: =IF(B17="","",IFERROR(SUMIFS('ورودی عملکرد'!$P$2:$P$101,'ورودی عملکرد'!$A$2:$A$101,$B$3,'ورودی عملکرد'!$B$2:$B$101,B17)/COUNTIFS('ورودی عملکرد'!$A$2:$A$101,$B$3,'ورودی عملکرد'!$B$2:$B$101,B17),0)) | H17: =IF(B17="","",IF(G17>=85,"حفظ و الگوبرداری",IF(G17>=70,"توسعه هدفمند",IF(G17>=55,"کوچینگ",IF(G17>=40,"برنامه بهبود","اقدام فوری")))))

Sheet ورودی عملکرد
A1: دوره | B1: کارشناس | C1: تارگت فروش | D1: فروش خالص | E1: بهای تمام‌شده | F1: Lead واجد شرایط | G1: مشتری جدید | H1: CRM / پیگیری | I1: مذاکره | J1: دانش محصول / همکاری | K1: یادداشت مدیر | L1: تحقق تارگت | M1: سود ناخالص | N1: حاشیه سود | O1: نرخ تبدیل | P1: امتیاز نهایی | Q1: سطح عملکرد
A2: 1405-01 | B2: علی رضایی (نمونه) | C2: 1000000000 | D2: 1120000000 | E2: 850000000 | F2: 100 | G2: 15 | H2: 5 | I2: 4 | J2: 5 | K2: ردیف نمونه؛ قابل حذف | L2: =IF(B2="","",IFERROR(D2/C2,0)) -> 1.12 | M2: =IF(B2="","",D2-E2) -> 270000000 | N2: =IF(B2="","",IFERROR(M2/D2,0)) -> 0.24107143 | O2: =IF(B2="","",IFERROR(G2/F2,0)) -> 0.15 | P2: =IF(B2="","",ROUND(MIN(L2,1.2)/1.2*30+MIN(N2/تنظیمات!$B$11,1.2)/1.2*15+MIN(O2/تنظیمات!$B$12,1.2)/1.2*15+MIN(G2/تنظیمات!$B$13,1.2)/1.2*10+H2/5*10+I2/5*10+J2/5*10,1)) -> 87.4 | Q2: =IF(B2="","",IF(P2>=85,"عالی",IF(P2>=70,"خوب",IF(P2>=55,"قابل قبول",IF(P2>=40,"نیازمند بهبود","ضعیف"))))) -> عالی
L3: =IF(B3="","",IFERROR(D3/C3,0)) | M3: =IF(B3="","",D3-E3) | N3: =IF(B3="","",IFERROR(M3/D3,0)) | O3: =IF(B3="","",IFERROR(G3/F3,0)) | P3: =IF(B3="","",ROUND(MIN(L3,1.2)/1.2*30+MIN(N3/تنظیمات!$B$11,1.2)/1.2*15+MIN(O3/تنظیمات!$B$12,1.2)/1.2*15+MIN(G3/تنظیمات!$B$13,1.2)/1.2*10+H3/5*10+I3/5*10+J3/5*10,1)) | Q3: =IF(B3="","",IF(P3>=85,"عالی",IF(P3>=70,"خوب",IF(P3>=55,"قابل قبول",IF(P3>=40,"نیازمند بهبود","ضعیف")))))
L4: =IF(B4="","",IFERROR(D4/C4,0)) | M4: =IF(B4="","",D4-E4) | N4: =IF(B4="","",IFERROR(M4/D4,0)) | O4: =IF(B4="","",IFERROR(G4/F4,0)) | P4: =IF(B4="","",ROUND(MIN(L4,1.2)/1.2*30+MIN(N4/تنظیمات!$B$11,1.2)/1.2*15+MIN(O4/تنظیمات!$B$12,1.2)/1.2*15+MIN(G4/تنظیمات!$B$13,1.2)/1.2*10+H4/5*10+I4/5*10+J4/5*10,1)) | Q4: =IF(B4="","",IF(P4>=85,"عالی",IF(P4>=70,"خوب",IF(P4>=55,"قابل قبول",IF(P4>=40,"نیازمند بهبود","ضعیف")))))
L5: =IF(B5="","",IFERROR(D5/C5,0)) | M5: =IF(B5="","",D5-E5) | N5: =IF(B5="","",IFERROR(M5/D5,0)) | O5: =IF(B5="","",IFERROR(G5/F5,0)) | P5: =IF(B5="","",ROUND(MIN(L5,1.2)/1.2*30+MIN(N5/تنظیمات!$B$11,1.2)/1.2*15+MIN(O5/تنظیمات!$B$12,1.2)/1.2*15+MIN(G5/تنظیمات!$B$13,1.2)/1.2*10+H5/5*10+I5/5*10+J5/5*10,1)) | Q5: =IF(B5="","",IF(P5>=85,"عالی",IF(P5>=70,"خوب",IF(P5>=55,"قابل قبول",IF(P5>=40,"نیازمند بهبود","ضعیف")))))
L6: =IF(B6="","",IFERROR(D6/C6,0)) | M6: =IF(B6="","",D6-E6) | N6: =IF(B6="","",IFERROR(M6/D6,0)) | O6: =IF(B6="","",IFERROR(G6/F6,0)) | P6: =IF(B6="","",ROUND(MIN(L6,1.2)/1.2*30+MIN(N6/تنظیمات!$B$11,1.2)/1.2*15+MIN(O6/تنظیمات!$B$12,1.2)/1.2*15+MIN(G6/تنظیمات!$B$13,1.2)/1.2*10+H6/5*10+I6/5*10+J6/5*10,1)) | Q6: =IF(B6="","",IF(P6>=85,"عالی",IF(P6>=70,"خوب",IF(P6>=55,"قابل قبول",IF(P6>=40,"نیازمند بهبود","ضعیف")))))
L7: =IF(B7="","",IFERROR(D7/C7,0)) | M7: =IF(B7="","",D7-E7) | N7: =IF(B7="","",IFERROR(M7/D7,0)) | O7: =IF(B7="","",IFERROR(G7/F7,0)) | P7: =IF(B7="","",ROUND(MIN(L7,1.2)/1.2*30+MIN(N7/تنظیمات!$B$11,1.2)/1.2*15+MIN(O7/تنظیمات!$B$12,1.2)/1.2*15+MIN(G7/تنظیمات!$B$13,1.2)/1.2*10+H7/5*10+I7/5*10+J7/5*10,1)) | Q7: =IF(B7="","",IF(P7>=85,"عالی",IF(P7>=70,"خوب",IF(P7>=55,"قابل قبول",IF(P7>=40,"نیازمند بهبود","ضعیف")))))
L8: =IF(B8="","",IFERROR(D8/C8,0)) | M8: =IF(B8="","",D8-E8) | N8: =IF(B8="","",IFERROR(M8/D8,0)) | O8: =IF(B8="","",IFERROR(G8/F8,0)) | P8: =IF(B8="","",ROUND(MIN(L8,1.2)/1.2*30+MIN(N8/تنظیمات!$B$11,1.2)/1.2*15+MIN(O8/تنظیمات!$B$12,1.2)/1.2*15+MIN(G8/تنظیمات!$B$13,1.2)/1.2*10+H8/5*10+I8/5*10+J8/5*10,1)) | Q8: =IF(B8="","",IF(P8>=85,"عالی",IF(P8>=70,"خوب",IF(P8>=55,"قابل قبول",IF(P8>=40,"نیازمند بهبود","ضعیف")))))
L9: =IF(B9="","",IFERROR(D9/C9,0)) | M9: =IF(B9="","",D9-E9) | N9: =IF(B9="","",IFERROR(M9/D9,0)) | O9: =IF(B9="","",IFERROR(G9/F9,0)) | P9: =IF(B9="","",ROUND(MIN(L9,1.2)/1.2*30+MIN(N9/تنظیمات!$B$11,1.2)/1.2*15+MIN(O9/تنظیمات!$B$12,1.2)/1.2*15+MIN(G9/تنظیمات!$B$13,1.2)/1.2*10+H9/5*10+I9/5*10+J9/5*10,1)) | Q9: =IF(B9="","",IF(P9>=85,"عالی",IF(P9>=70,"خوب",IF(P9>=55,"قابل قبول",IF(P9>=40,"نیازمند بهبود","ضعیف")))))
L10: =IF(B10="","",IFERROR(D10/C10,0)) | M10: =IF(B10="","",D10-E10) | N10: =IF(B10="","",IFERROR(M10/D10,0)) | O10: =IF(B10="","",IFERROR(G10/F10,0)) | P10: =IF(B10="","",ROUND(MIN(L10,1.2)/1.2*30+MIN(N10/تنظیمات!$B$11,1.2)/1.2*15+MIN(O10/تنظیمات!$B$12,1.2)/1.2*15+MIN(G10/تنظیمات!$B$13,1.2)/1.2*10+H10/5*10+I10/5*10+J10/5*10,1)) | Q10: =IF(B10="","",IF(P10>=85,"عالی",IF(P10>=70,"خوب",IF(P10>=55,"قابل قبول",IF(P10>=40,"نیازمند بهبود","ضعیف")))))
L11: =IF(B11="","",IFERROR(D11/C11,0)) | M11: =IF(B11="","",D11-E11) | N11: =IF(B11="","",IFERROR(M11/D11,0)) | O11: =IF(B11="","",IFERROR(G11/F11,0)) | P11: =IF(B11="","",ROUND(MIN(L11,1.2)/1.2*30+MIN(N11/تنظیمات!$B$11,1.2)/1.2*15+MIN(O11/تنظیمات!$B$12,1.2)/1.2*15+MIN(G11/تنظیمات!$B$13,1.2)/1.2*10+H11/5*10+I11/5*10+J11/5*10,1)) | Q11: =IF(B11="","",IF(P11>=85,"عالی",IF(P11>=70,"خوب",IF(P11>=55,"قابل قبول",IF(P11>=40,"نیازمند بهبود","ضعیف")))))
L12: =IF(B12="","",IFERROR(D12/C12,0)) | M12: =IF(B12="","",D12-E12) | N12: =IF(B12="","",IFERROR(M12/D12,0)) | O12: =IF(B12="","",IFERROR(G12/F12,0)) | P12: =IF(B12="","",ROUND(MIN(L12,1.2)/1.2*30+MIN(N12/تنظیمات!$B$11,1.2)/1.2*15+MIN(O12/تنظیمات!$B$12,1.2)/1.2*15+MIN(G12/تنظیمات!$B$13,1.2)/1.2*10+H12/5*10+I12/5*10+J12/5*10,1)) | Q12: =IF(B12="","",IF(P12>=85,"عالی",IF(P12>=70,"خوب",IF(P12>=55,"قابل قبول",IF(P12>=40,"نیازمند بهبود","ضعیف")))))
L13: =IF(B13="","",IFERROR(D13/C13,0)) | M13: =IF(B13="","",D13-E13) | N13: =IF(B13="","",IFERROR(M13/D13,0)) | O13: =IF(B13="","",IFERROR(G13/F13,0)) | P13: =IF(B13="","",ROUND(MIN(L13,1.2)/1.2*30+MIN(N13/تنظیمات!$B$11,1.2)/1.2*15+MIN(O13/تنظیمات!$B$12,1.2)/1.2*15+MIN(G13/تنظیمات!$B$13,1.2)/1.2*10+H13/5*10+I13/5*10+J13/5*10,1)) | Q13: =IF(B13="","",IF(P13>=85,"عالی",IF(P13>=70,"خوب",IF(P13>=55,"قابل قبول",IF(P13>=40,"نیازمند بهبود","ضعیف")))))
L14: =IF(B14="","",IFERROR(D14/C14,0)) | M14: =IF(B14="","",D14-E14) | N14: =IF(B14="","",IFERROR(M14/D14,0)) | O14: =IF(B14="","",IFERROR(G14/F14,0)) | P14: =IF(B14="","",ROUND(MIN(L14,1.2)/1.2*30+MIN(N14/تنظیمات!$B$11,1.2)/1.2*15+MIN(O14/تنظیمات!$B$12,1.2)/1.2*15+MIN(G14/تنظیمات!$B$13,1.2)/1.2*10+H14/5*10+I14/5*10+J14/5*10,1)) | Q14: =IF(B14="","",IF(P14>=85,"عالی",IF(P14>=70,"خوب",IF(P14>=55,"قابل قبول",IF(P14>=40,"نیازمند بهبود","ضعیف")))))
... L101: =IF(B101="","",IFERROR(D101/C101,0)) | M101: =IF(B101="","",D101-E101) | N101: =IF(B101="","",IFERROR(M101/D101,0)) | O101: =IF(B101="","",IFERROR(G101/F101,0)) | P101: =IF(B101="","",ROUND(MIN(L101,1.2)/1.2*30+MIN(N101/تنظیمات!$B$11,1.2)/1.2*15+MIN(O101/تنظیمات!$B$12,1.2)/1.2*15+MIN(G101/تنظیمات!$B$13,1.2)/1.2*10+H101/5*10+I101/5*10+J101/5*10,1)) | Q101: =IF(B101="","",IF(P101>=85,"عالی",IF(P101>=70,"خوب",IF(P101>=55,"قابل قبول",IF(P101>=40,"نیازمند بهبود","ضعیف")))))

Sheet تنظیمات
A1: تنظیمات ارزیابی
A2: شاخص | B2: وزن / هدف | D2: لیست کارشناسان (روستر ثابت) | F2: دوره‌های ارزیابی
A3: تحقق تارگت فروش | B3: 0.3 | D3: علی رضایی (نمونه) | F3: 1405-01
A4: حاشیه سود | B4: 0.15 | F4: 1405-02
A5: نرخ تبدیل | B5: 0.15 | F5: 1405-03
A6: مشتری جدید | B6: 0.1 | F6: 1405-04
A7: CRM و پیگیری | B7: 0.1 | F7: 1405-05
A8: مذاکره و فروش | B8: 0.1 | F8: 1405-06
A9: دانش محصول و همکاری | B9: 0.1 | F9: 1405-07
F10: 1405-08
A11: هدف حاشیه سود | B11: 0.25 | F11: 1405-09
A12: هدف نرخ تبدیل | B12: 0.2 | F12: 1405-10
A13: هدف مشتری جدید | B13: 10 | F13: 1405-11
F14: 1405-12

Sheet راهنما
A1: راهنمای سریع | B1: توضیح
A2: 1 | B2: فقط شیت «ورودی عملکرد» را تکمیل کنید.
A3: 2 | B3: سلول‌های زرد کم‌رنگ، ورودی مدیر هستند؛ ستون‌های خاکستری خودکار محاسبه می‌شوند.
A4: 3 | B4: برای جلوگیری از شلوغی، فقط 25 ردیف آماده ورود رنگ شده؛ ردیف‌های بعدی سفید هستند.
A5: 4 | B5: CRM، مذاکره و دانش محصول را از 1 تا 5 نمره دهید.
A6: 5 | B6: Lead واجد شرایط یعنی سرنخی که واقعاً امکان خرید داشته است.
A7: 6 | B7: داشبورد با تغییر دوره ارزیابی، جمع‌بندی همان دوره را نشان می‌دهد.
A8: 7 | B8: نمودارها Native Excel هستند و از جدول داشبورد تغذیه می‌شوند.
A9: 8 | B9: وزن‌ها و اهداف مرجع در شیت «تنظیمات» قابل تغییرند.
